BEGIN:VCALENDAR
VERSION:2.0
PRODID:-//https://lecze-salezjanie.pl///DJ-Events//EN
BEGIN:VEVENT
SUMMARY:+ Piotr Bernecki - Msza święta Gregoriańska (28)
UID:1218@https://lecze-salezjanie.pl/
DTSTART:20230528T103000
DTEND:20230528T103000
DTSTAMP:20260425T161850
CATEGORIES:Msza święta
LOCATION:Suchacz 82-340 Kielecka 14
GEO:54.2856461944789;19.44132685661316
DESCRIPTION:
URL:https://lecze-salezjanie.pl//component/djevents/details/2023-05-28/1218-piotr-bernecki-msza-swieta-gregorianska-28
END:VEVENT
END:VCALENDAR
