BEGIN:VCALENDAR
VERSION:2.0
PRODID:-//https://lecze-salezjanie.pl///DJ-Events//EN
BEGIN:VEVENT
SUMMARY:O dary Bożej Miłości, zdrowie i nieustanną opiekę Matki Bożej dla Magdaleny Kuźma z okazji imienin
UID:1347@https://lecze-salezjanie.pl/
DTSTART:20230528T090000
DTEND:20230528T090000
DTSTAMP:20260425T144846
CATEGORIES:Msza święta
LOCATION:Suchacz 82-340 Kielecka 14
GEO:54.2856461944789;19.44132685661316
DESCRIPTION:
URL:https://lecze-salezjanie.pl//component/djevents/details/2023-05-28/1347-o-dary-bozej-milosci-zdrowie-i-nieustanna-opieke-matki-bozej-dla-magdaleny-kuzma-z-okazji-imienin
END:VEVENT
END:VCALENDAR
