BEGIN:VCALENDAR
VERSION:2.0
PRODID:-//https://lecze-salezjanie.pl///DJ-Events//EN
BEGIN:VEVENT
SUMMARY:Nabożeństwo Majowe
UID:1443@https://lecze-salezjanie.pl/
DTSTART:20230528T094500
DTEND:20230528T094500
DTSTAMP:20260425T144311
CATEGORIES:Nabożeństwo
LOCATION:Suchacz 82-340 Kielecka 14
GEO:54.2856461944789;19.44132685661316
DESCRIPTION:
URL:https://lecze-salezjanie.pl//component/djevents/details/2023-05-28/1443-nabozenstwo-majowe-4
END:VEVENT
END:VCALENDAR
