BEGIN:VCALENDAR
VERSION:2.0
PRODID:-//https://lecze-salezjanie.pl///DJ-Events//EN
BEGIN:VEVENT
SUMMARY:+ Anna Zalewska - Msza święta Gregoriańska (28)
UID:973@https://lecze-salezjanie.pl/
DTSTART:20230528T090000
DTEND:20230528T090000
DTSTAMP:20260425T144801
CATEGORIES:Msza święta
LOCATION:Łęcze 82-340 Łęcze 48
GEO:54.2700545652713;19.468870040475466
DESCRIPTION:
URL:https://lecze-salezjanie.pl//component/djevents/details/2023-05-28/973-anna-zalewska-msza-swieta-gregorianska-28
END:VEVENT
END:VCALENDAR
