BEGIN:VCALENDAR
VERSION:2.0
PRODID:-//https://lecze-salezjanie.pl///DJ-Events//EN
BEGIN:VEVENT
SUMMARY:+ Anna Zalewska - Msza święta Gregoriańska (29)
UID:975@https://lecze-salezjanie.pl/
DTSTART:20230529T180000
DTEND:20230529T180000
DTSTAMP:20260425T144713
CATEGORIES:Msza święta
LOCATION:Łęcze 82-340 Łęcze 48
GEO:54.2700545652713;19.468870040475466
DESCRIPTION:
URL:https://lecze-salezjanie.pl//component/djevents/details/2023-05-29/975-anna-zalewska-msza-swieta-gregorianska-29
END:VEVENT
END:VCALENDAR
