BEGIN:VCALENDAR
VERSION:2.0
PRODID:-//https://lecze-salezjanie.pl///DJ-Events//EN
BEGIN:VEVENT
SUMMARY:Nabożeństwo Majowe
UID:1444@https://lecze-salezjanie.pl/
DTSTART:20230530T173000
DTEND:20230530T173000
DTSTAMP:20260425T144255
CATEGORIES:Nabożeństwo
LOCATION:Łęcze 82-340 Łęcze 48
GEO:54.2700545652713;19.468870040475466
DESCRIPTION:
URL:https://lecze-salezjanie.pl//component/djevents/details/2023-05-30/1444-nabozenstwo-majowe-2
END:VEVENT
END:VCALENDAR
