BEGIN:VCALENDAR
VERSION:2.0
PRODID:-//https://lecze-salezjanie.pl///DJ-Events//EN
BEGIN:VEVENT
SUMMARY:+ Anna Zalewska - Msza święta Gregoriańska (30)
UID:976@https://lecze-salezjanie.pl/
DTSTART:20230530T180000
DTEND:20230530T180000
DTSTAMP:20260425T162029
CATEGORIES:Msza święta
LOCATION:Łęcze 82-340 Łęcze 48
GEO:54.2700545652713;19.468870040475466
DESCRIPTION:
URL:https://lecze-salezjanie.pl//component/djevents/details/2023-05-30/976-anna-zalewska-msza-swieta-gregorianska-30
END:VEVENT
END:VCALENDAR
