BEGIN:VCALENDAR
VERSION:2.0
PRODID:-//https://lecze-salezjanie.pl///DJ-Events//EN
BEGIN:VEVENT
SUMMARY:O Boże Błogosławieństwo i opiekę Matki Bożej dla ks. Janusza w dniu urodzin
UID:1221@https://lecze-salezjanie.pl/
DTSTART:20230531T170000
DTEND:20230531T170000
DTSTAMP:20260425T144830
CATEGORIES:Msza święta
LOCATION:Suchacz 82-340 Kielecka 14
GEO:54.2856461944789;19.44132685661316
DESCRIPTION:
URL:https://lecze-salezjanie.pl//component/djevents/details/2023-05-31/1221-o-boze-blogoslawienstwo-i-opieke-matki-bozej-dla-ks-janusza-w-dniu-urodzin
END:VEVENT
END:VCALENDAR
