BEGIN:VCALENDAR
VERSION:2.0
PRODID:-//https://lecze-salezjanie.pl///DJ-Events//EN
BEGIN:VEVENT
SUMMARY:+ Jadwiga i Mikołaj Dołgoruki i zmarli z rodziny Downarów i Dołgorukich
UID:977@https://lecze-salezjanie.pl/
DTSTART:20230531T180000
DTEND:20230531T180000
DTSTAMP:20260425T144815
CATEGORIES:Msza święta
LOCATION:Łęcze 82-340 Łęcze 48
GEO:54.2700545652713;19.468870040475466
DESCRIPTION:
URL:https://lecze-salezjanie.pl//component/djevents/details/2023-05-31/977-jadwiga-i-mikolaj-dolgoruki-i-zmarli-z-rodziny-downarow-i-dolgorukich
END:VEVENT
END:VCALENDAR
