BEGIN:VCALENDAR
VERSION:2.0
PRODID:-//https://lecze-salezjanie.pl///DJ-Events//EN
BEGIN:VEVENT
SUMMARY:+ Jan Szatyło - w 14 rocznicę śmierci i Edward Skalmowski - w 3 rocznicę śmierci
UID:1410@https://lecze-salezjanie.pl/
DTSTART:20230601T170000
DTEND:20230601T170000
DTSTAMP:20260425T144830
CATEGORIES:Msza święta
LOCATION:Suchacz 82-340 Kielecka 14
GEO:54.2856461944789;19.44132685661316
DESCRIPTION:
URL:https://lecze-salezjanie.pl//component/djevents/details/2023-06-01/1410-jan-szatylo-w-14-rocznice-smierci-i-edward-skalmowski-w-3-rocznice-smierci
END:VEVENT
END:VCALENDAR
