BEGIN:VCALENDAR
VERSION:2.0
PRODID:-//https://lecze-salezjanie.pl///DJ-Events//EN
BEGIN:VEVENT
SUMMARY:Za zmarłych polecanych w Wypominkach
UID:1222@https://lecze-salezjanie.pl/
DTSTART:20230602T170000
DTEND:20230602T170000
DTSTAMP:20260425T144551
CATEGORIES:Msza święta
LOCATION:Suchacz 82-340 Kielecka 14
GEO:54.2856461944789;19.44132685661316
DESCRIPTION:
URL:https://lecze-salezjanie.pl//component/djevents/details/2023-06-02/1222-za-zmarlych-polecanych-w-wypominkach-3
END:VEVENT
END:VCALENDAR
