BEGIN:VCALENDAR
VERSION:2.0
PRODID:-//https://lecze-salezjanie.pl///DJ-Events//EN
BEGIN:VEVENT
SUMMARY:+ Mieczysław Zalewski - w 7 rocznicę śmierci
UID:1091@https://lecze-salezjanie.pl/
DTSTART:20230604T120000
DTEND:20230604T120000
DTSTAMP:20260425T130537
CATEGORIES:Msza święta
LOCATION:Łęcze 82-340 Łęcze 48
GEO:54.2700545652713;19.468870040475466
DESCRIPTION:
URL:https://lecze-salezjanie.pl//component/djevents/details/2023-06-04/1091-mieczyslaw-zalewski-w-7-rocznice-smierci
END:VEVENT
END:VCALENDAR
