BEGIN:VCALENDAR
VERSION:2.0
PRODID:-//https://lecze-salezjanie.pl///DJ-Events//EN
BEGIN:VEVENT
SUMMARY:+ Mieczysław, Stanisław i Julianna Luzar oraz Antoni i Henryka Walczyna
UID:1296@https://lecze-salezjanie.pl/
DTSTART:20230604T103000
DTEND:20230604T103000
DTSTAMP:20260425T131421
CATEGORIES:Msza święta
LOCATION:Suchacz 82-340 Kielecka 14
GEO:54.2856461944789;19.44132685661316
DESCRIPTION:
URL:https://lecze-salezjanie.pl//component/djevents/details/2023-06-04/1296-mieczyslaw-stanislaw-i-julianna-luzar-oraz-antoni-i-henryka-walczyna
END:VEVENT
END:VCALENDAR
