BEGIN:VCALENDAR
VERSION:2.0
PRODID:-//https://lecze-salezjanie.pl///DJ-Events//EN
BEGIN:VEVENT
SUMMARY:+ Marcin Jeszke i zmarli z rodziny Jeszke i Piotrowskich
UID:1411@https://lecze-salezjanie.pl/
DTSTART:20230606T170000
DTEND:20230606T170000
DTSTAMP:20260425T130947
CATEGORIES:Msza święta
LOCATION:Suchacz 82-340 Kielecka 14
GEO:54.2856461944789;19.44132685661316
DESCRIPTION:
URL:https://lecze-salezjanie.pl//component/djevents/details/2023-06-06/1411-marcin-jeszke-i-zmarli-z-rodziny-jeszke-i-piotrowskich
END:VEVENT
END:VCALENDAR
