BEGIN:VCALENDAR
VERSION:2.0
PRODID:-//https://lecze-salezjanie.pl///DJ-Events//EN
BEGIN:VEVENT
SUMMARY:+ Jadwiga - w 29 rocznicę śmierci i Franciszek Pięknik, zmarli z rodziny Stokłosińskich i Pięknik
UID:1367@https://lecze-salezjanie.pl/
DTSTART:20230608T090000
DTEND:20230608T090000
DTSTAMP:20260425T131634
CATEGORIES:Msza święta
LOCATION:Suchacz 82-340 Kielecka 14
GEO:54.2856461944789;19.44132685661316
DESCRIPTION:
URL:https://lecze-salezjanie.pl//component/djevents/details/2023-06-08/1367-jadwiga-w-29-rocznice-smierci-i-franciszek-pieknik-zmarli-z-rodziny-stoklosinskich-i-pieknik
END:VEVENT
END:VCALENDAR
