BEGIN:VCALENDAR
VERSION:2.0
PRODID:-//https://lecze-salezjanie.pl///DJ-Events//EN
BEGIN:VEVENT
SUMMARY:+ Marianna Fota - Msza święta Gregoriańska (10)
UID:987@https://lecze-salezjanie.pl/
DTSTART:20230610T180000
DTEND:20230610T180000
DTSTAMP:20260425T124928
CATEGORIES:Msza święta
LOCATION:Łęcze 82-340 Łęcze 48
GEO:54.2700545652713;19.468870040475466
DESCRIPTION:
URL:https://lecze-salezjanie.pl//component/djevents/details/2023-06-10/987-marianna-fota-msza-swieta-gregorianska-10
END:VEVENT
END:VCALENDAR
