BEGIN:VCALENDAR
VERSION:2.0
PRODID:-//https://lecze-salezjanie.pl///DJ-Events//EN
BEGIN:VEVENT
SUMMARY:+ Edmund, Marianna Zalewscy, Ludwik Górski
UID:1093@https://lecze-salezjanie.pl/
DTSTART:20230618T120000
DTEND:20230618T120000
DTSTAMP:20260423T055746
CATEGORIES:Msza święta
LOCATION:Łęcze 82-340 Łęcze 48
GEO:54.2700545652713;19.468870040475466
DESCRIPTION:
URL:https://lecze-salezjanie.pl//component/djevents/details/2023-06-18/1093-edmund-marianna-zalewscy-ludwik-gorski-1
END:VEVENT
END:VCALENDAR
