BEGIN:VCALENDAR
VERSION:2.0
PRODID:-//https://lecze-salezjanie.pl///DJ-Events//EN
BEGIN:VEVENT
SUMMARY:+ Janina - w 2 rocznicę śmierci i Józef Szczepańscy
UID:1369@https://lecze-salezjanie.pl/
DTSTART:20230618T103000
DTEND:20230618T103000
DTSTAMP:20260423T055705
CATEGORIES:Msza święta
LOCATION:Suchacz 82-340 Kielecka 14
GEO:54.2856461944789;19.44132685661316
DESCRIPTION:
URL:https://lecze-salezjanie.pl//component/djevents/details/2023-06-18/1369-janina-w-2-rocznice-smierci-i-jozef-szczepanscy
END:VEVENT
END:VCALENDAR
