BEGIN:VCALENDAR
VERSION:2.0
PRODID:-//https://lecze-salezjanie.pl///DJ-Events//EN
BEGIN:VEVENT
SUMMARY:+ Marianna Fota - Msza święta Gregoriańska (18)
UID:994@https://lecze-salezjanie.pl/
DTSTART:20230618T090000
DTEND:20230618T090000
DTSTAMP:20260423T055612
CATEGORIES:Msza święta
LOCATION:Łęcze 82-340 Łęcze 48
GEO:54.2700545652713;19.468870040475466
DESCRIPTION:
URL:https://lecze-salezjanie.pl//component/djevents/details/2023-06-18/994-marianna-fota-msza-swieta-gregorianska-18
END:VEVENT
END:VCALENDAR
