BEGIN:VCALENDAR
VERSION:2.0
PRODID:-//https://lecze-salezjanie.pl///DJ-Events//EN
BEGIN:VEVENT
SUMMARY:+ Tadeusz, Andrzej i Halina Lejmanowicz
UID:1457@https://lecze-salezjanie.pl/
DTSTART:20230619T180000
DTEND:20230619T180000
DTSTAMP:20260423T055412
CATEGORIES:Msza święta
LOCATION:Łęcze 82-340 Łęcze 48
GEO:54.2700545652713;19.468870040475466
DESCRIPTION:
URL:https://lecze-salezjanie.pl//component/djevents/details/2023-06-19/1457-tadeusz-andrzej-i-halina-lejmanowicz-1
END:VEVENT
END:VCALENDAR
