BEGIN:VCALENDAR
VERSION:2.0
PRODID:-//https://lecze-salezjanie.pl///DJ-Events//EN
BEGIN:VEVENT
SUMMARY:+ Marianna Fota - Msza święta Gregoriańska (19)
UID:995@https://lecze-salezjanie.pl/
DTSTART:20230619T180000
DTEND:20230619T180000
DTSTAMP:20260423T055432
CATEGORIES:Msza święta
LOCATION:Łęcze 82-340 Łęcze 48
GEO:54.2700545652713;19.468870040475466
DESCRIPTION:
URL:https://lecze-salezjanie.pl//component/djevents/details/2023-06-19/995-marianna-fota-msza-swieta-gregorianska-19
END:VEVENT
END:VCALENDAR
