BEGIN:VCALENDAR
VERSION:2.0
PRODID:-//https://lecze-salezjanie.pl///DJ-Events//EN
BEGIN:VEVENT
SUMMARY:O dary Bożej Miłości, zdrowie i nieustanną opiekę Matki Bożej dla Heleny Pałkiewicz
UID:1464@https://lecze-salezjanie.pl/
DTSTART:20230620T170000
DTEND:20230620T170000
DTSTAMP:20260423T055807
CATEGORIES:Msza święta
LOCATION:Suchacz 82-340 Kielecka 14
GEO:54.2856461944789;19.44132685661316
DESCRIPTION:
URL:https://lecze-salezjanie.pl//component/djevents/details/2023-06-20/1464-o-dary-bozej-milosci-zdrowie-i-nieustanna-opieke-matki-bozej-dla-heleny-palkiewicz
END:VEVENT
END:VCALENDAR
