BEGIN:VCALENDAR
VERSION:2.0
PRODID:-//https://lecze-salezjanie.pl///DJ-Events//EN
BEGIN:VEVENT
SUMMARY:Dziękczynna, z prośbą o nieustanną opiekę Matki Bożej dla Jadwigi Makarewicz i jej rodziny
UID:1458@https://lecze-salezjanie.pl/
DTSTART:20230621T180000
DTEND:20230621T180000
DTSTAMP:20260423T060651
CATEGORIES:Msza święta
LOCATION:Łęcze 82-340 Łęcze 48
GEO:54.2700545652713;19.468870040475466
DESCRIPTION:
URL:https://lecze-salezjanie.pl//component/djevents/details/2023-06-21/1458-dziekczynna-z-prosba-o-nieustanna-opieke-matki-bozej-dla-jadwigi-makarewicz-i-jej-rodziny
END:VEVENT
END:VCALENDAR
