BEGIN:VCALENDAR
VERSION:2.0
PRODID:-//https://lecze-salezjanie.pl///DJ-Events//EN
BEGIN:VEVENT
SUMMARY:O dary Ducha Świętego, świętość życia, zdrowie i opiekę Matki Bożej dla Dominiki
UID:1465@https://lecze-salezjanie.pl/
DTSTART:20230622T170000
DTEND:20230622T170000
DTSTAMP:20260423T055823
CATEGORIES:Msza święta
LOCATION:Suchacz 82-340 Kielecka 14
GEO:54.2856461944789;19.44132685661316
DESCRIPTION:
URL:https://lecze-salezjanie.pl//component/djevents/details/2023-06-22/1465-o-dary-ducha-swietego-swietosc-zycia-zdrowie-i-opieke-matki-bozej-dla-dominiki
END:VEVENT
END:VCALENDAR
