BEGIN:VCALENDAR
VERSION:2.0
PRODID:-//https://lecze-salezjanie.pl///DJ-Events//EN
BEGIN:VEVENT
SUMMARY:Dziękczynna za miniony Rok Szkolny, z prośbą o szczęśliwe wakacje dla Społeczności Szkolnej z Łęcza
UID:1510@https://lecze-salezjanie.pl/
DTSTART:20230622T081500
DTEND:20230622T081500
DTSTAMP:20260423T055925
CATEGORIES:Msza święta
LOCATION:Łęcze 82-340 Łęcze 48
GEO:54.2700545652713;19.468870040475466
DESCRIPTION:
URL:https://lecze-salezjanie.pl//component/djevents/details/2023-06-22/1510-dziekczynna-za-miniony-rok-szkolny-z-prosba-o-szczesliwe-wakacje-dla-spolecznosci-szkolnej-z-lecza
END:VEVENT
END:VCALENDAR
