BEGIN:VCALENDAR
VERSION:2.0
PRODID:-//https://lecze-salezjanie.pl///DJ-Events//EN
BEGIN:VEVENT
SUMMARY:Dziękczynna za kończący się Rok Szkolny, z prośbą o szczęśliwe wakacje dla Społeczności Szkolnej w Suchaczu
UID:1511@https://lecze-salezjanie.pl/
DTSTART:20230622T170000
DTEND:20230622T170000
DTSTAMP:20260423T055822
CATEGORIES:Msza święta
LOCATION:Suchacz 82-340 Kielecka 14
GEO:54.2856461944789;19.44132685661316
DESCRIPTION:
URL:https://lecze-salezjanie.pl//component/djevents/details/2023-06-22/1511-dziekczynna-za-konczacy-sie-rok-szkolny-z-prosba-o-szczesliwe-wakacje-dla-spolecznosci-szkolnej-w-suchaczu
END:VEVENT
END:VCALENDAR
