BEGIN:VCALENDAR
VERSION:2.0
PRODID:-//https://lecze-salezjanie.pl///DJ-Events//EN
BEGIN:VEVENT
SUMMARY:+ Wacław, Henryk, Józef, Sławomir i Marian
UID:1433@https://lecze-salezjanie.pl/
DTSTART:20230623T180000
DTEND:20230623T180000
DTSTAMP:20260423T055704
CATEGORIES:Msza święta
LOCATION:Łęcze 82-340 Łęcze 48
GEO:54.2700545652713;19.468870040475466
DESCRIPTION:
URL:https://lecze-salezjanie.pl//component/djevents/details/2023-06-23/1433-waclaw-henryk-jozef-slawomir-i-marian
END:VEVENT
END:VCALENDAR
