BEGIN:VCALENDAR
VERSION:2.0
PRODID:-//https://lecze-salezjanie.pl///DJ-Events//EN
BEGIN:VEVENT
SUMMARY:+ Leon Banaszek - w 38 rocznicę śmierci oraz Henryka i wszyscy zmarli z rodziny Banaszków
UID:1094@https://lecze-salezjanie.pl/
DTSTART:20230625T120000
DTEND:20230625T120000
DTSTAMP:20260423T042013
CATEGORIES:Msza święta
LOCATION:Łęcze 82-340 Łęcze 48
GEO:54.2700545652713;19.468870040475466
DESCRIPTION:
URL:https://lecze-salezjanie.pl//component/djevents/details/2023-06-25/1094-leon-banaszek-w-38-rocznice-smierci-oraz-henryka-i-wszyscy-zmarli-z-rodziny-banaszkow
END:VEVENT
END:VCALENDAR
