BEGIN:VCALENDAR
VERSION:2.0
PRODID:-//https://lecze-salezjanie.pl///DJ-Events//EN
BEGIN:VEVENT
SUMMARY:+ Emilia Wilk - w 14 rocznicę śmierci
UID:1466@https://lecze-salezjanie.pl/
DTSTART:20230625T120000
DTEND:20230625T120000
DTSTAMP:20260423T041500
CATEGORIES:Msza święta
LOCATION:Kamionek Wielki 82-340 Kamionek Wielki 5
GEO:54.262029131955885;19.404954271163948
DESCRIPTION:
URL:https://lecze-salezjanie.pl//component/djevents/details/2023-06-25/1466-emilia-wilk-w-14-rocznice-smierci
END:VEVENT
END:VCALENDAR
