BEGIN:VCALENDAR
VERSION:2.0
PRODID:-//https://lecze-salezjanie.pl///DJ-Events//EN
BEGIN:VEVENT
SUMMARY:Dziękczynna, z prośbą o dary Bożej Miłości i opiekę Matki Bożej na dalsze lata życia dla Rysi z okazji urodzin 
UID:1493@https://lecze-salezjanie.pl/
DTSTART:20230627T170000
DTEND:20230627T170000
DTSTAMP:20260423T042100
CATEGORIES:Msza święta
LOCATION:Suchacz 82-340 Kielecka 14
GEO:54.2856461944789;19.44132685661316
DESCRIPTION:
URL:https://lecze-salezjanie.pl//component/djevents/details/2023-06-27/1493-dziekczynna-z-prosba-o-dary-bozej-milosci-i-opieke-matki-bozej-na-dalsze-lata-zycia-dla-rysi-z-okazji-urodzin
END:VEVENT
END:VCALENDAR
