BEGIN:VCALENDAR
VERSION:2.0
PRODID:-//https://lecze-salezjanie.pl///DJ-Events//EN
BEGIN:VEVENT
SUMMARY:+ Marianna Fota - Msza święta Gregoriańska (28)
UID:1002@https://lecze-salezjanie.pl/
DTSTART:20230628T180000
DTEND:20230628T180000
DTSTAMP:20260423T041516
CATEGORIES:Msza święta
LOCATION:Łęcze 82-340 Łęcze 48
GEO:54.2700545652713;19.468870040475466
DESCRIPTION:
URL:https://lecze-salezjanie.pl//component/djevents/details/2023-06-28/1002-marianna-fota-msza-swieta-gregorianska-28
END:VEVENT
END:VCALENDAR
