BEGIN:VCALENDAR
VERSION:2.0
PRODID:-//https://lecze-salezjanie.pl///DJ-Events//EN
BEGIN:VEVENT
SUMMARY:Dziękczynna za otrzymane łaski w roku szkolnym, z prośbą o bezpieczne wakacje dla dzieci i wnuków
UID:1437@https://lecze-salezjanie.pl/
DTSTART:20230629T170000
DTEND:20230629T170000
DTSTAMP:20260423T041927
CATEGORIES:Msza święta
LOCATION:Suchacz 82-340 Kielecka 14
GEO:54.2856461944789;19.44132685661316
DESCRIPTION:
URL:https://lecze-salezjanie.pl//component/djevents/details/2023-06-29/1437-dziekczynna-za-otrzymane-laski-w-roku-szkolnym-z-prosba-o-bezpieczne-wakacje-dla-dzieci-i-wnukow
END:VEVENT
END:VCALENDAR
