BEGIN:VCALENDAR
VERSION:2.0
PRODID:-//https://lecze-salezjanie.pl///DJ-Events//EN
BEGIN:VEVENT
SUMMARY:W intencji Koła Żywego Różańca
UID:1004@https://lecze-salezjanie.pl/
DTSTART:20230701T180000
DTEND:20230701T180000
DTSTAMP:20260423T041628
CATEGORIES:Msza święta
LOCATION:Łęcze 82-340 Łęcze 48
GEO:54.2700545652713;19.468870040475466
DESCRIPTION:
URL:https://lecze-salezjanie.pl//component/djevents/details/2023-07-01/1004-w-intencji-kola-zywego-rozanca-3
END:VEVENT
END:VCALENDAR
