BEGIN:VCALENDAR
VERSION:2.0
PRODID:-//https://lecze-salezjanie.pl///DJ-Events//EN
BEGIN:VEVENT
SUMMARY:+ Mikołaj i Jadwiga Dołgoruki i zmarli z rodziny Dołgorukich i Downarów
UID:1095@https://lecze-salezjanie.pl/
DTSTART:20230702T090000
DTEND:20230702T090000
DTSTAMP:20260423T025136
CATEGORIES:Msza święta
LOCATION:Łęcze 82-340 Łęcze 48
GEO:54.2700545652713;19.468870040475466
DESCRIPTION:
URL:https://lecze-salezjanie.pl//component/djevents/details/2023-07-02/1095-mikolaj-i-jadwiga-dolgoruki-i-zmarli-z-rodziny-dolgorukich-i-downarow
END:VEVENT
END:VCALENDAR
