BEGIN:VCALENDAR
VERSION:2.0
PRODID:-//https://lecze-salezjanie.pl///DJ-Events//EN
BEGIN:VEVENT
SUMMARY:W intencji Koła Żywego Różańca
UID:1224@https://lecze-salezjanie.pl/
DTSTART:20230702T120000
DTEND:20230702T120000
DTSTAMP:20260423T024009
CATEGORIES:Msza święta
LOCATION:Kamionek Wielki 82-340 Kamionek Wielki 5
GEO:54.262029131955885;19.404954271163948
DESCRIPTION:
URL:https://lecze-salezjanie.pl//component/djevents/details/2023-07-02/1224-w-intencji-kola-zywego-rozanca-6
END:VEVENT
END:VCALENDAR
