BEGIN:VCALENDAR
VERSION:2.0
PRODID:-//https://lecze-salezjanie.pl///DJ-Events//EN
BEGIN:VEVENT
SUMMARY:+ Hieronima, Paweł Święccy, Waldemar, Władysława, Stefan Postek, zmarli z rodziny
UID:1438@https://lecze-salezjanie.pl/
DTSTART:20230704T170000
DTEND:20230704T170000
DTSTAMP:20260423T041920
CATEGORIES:Msza święta
LOCATION:Suchacz 82-340 Kielecka 14
GEO:54.2856461944789;19.44132685661316
DESCRIPTION:
URL:https://lecze-salezjanie.pl//component/djevents/details/2023-07-04/1438-hieronima-pawel-swieccy-waldemar-wladyslawa-stefan-postek-zmarli-z-rodziny
END:VEVENT
END:VCALENDAR
