BEGIN:VCALENDAR
VERSION:2.0
PRODID:-//https://lecze-salezjanie.pl///DJ-Events//EN
BEGIN:VEVENT
SUMMARY:O zdrowie, Boże Błogosławieństwo i opiekę Matki Bożej dla Ireny
UID:1512@https://lecze-salezjanie.pl/
DTSTART:20230705T180000
DTEND:20230705T180000
DTSTAMP:20260423T025338
CATEGORIES:Msza święta
LOCATION:Łęcze 82-340 Łęcze 48
GEO:54.2700545652713;19.468870040475466
DESCRIPTION:
URL:https://lecze-salezjanie.pl//component/djevents/details/2023-07-05/1512-o-zdrowie-boze-blogoslawienstwo-i-opieke-matki-bozej-dla-ireny
END:VEVENT
END:VCALENDAR
