BEGIN:VCALENDAR
VERSION:2.0
PRODID:-//https://lecze-salezjanie.pl///DJ-Events//EN
BEGIN:VEVENT
SUMMARY:Za zmarłych Członków Klubu Seniora w Suchaczu
UID:1494@https://lecze-salezjanie.pl/
DTSTART:20230706T170000
DTEND:20230706T170000
DTSTAMP:20260423T025131
CATEGORIES:Msza święta
LOCATION:Suchacz 82-340 Kielecka 14
GEO:54.2856461944789;19.44132685661316
DESCRIPTION:
URL:https://lecze-salezjanie.pl//component/djevents/details/2023-07-06/1494-za-zmarlych-czlonkow-klubu-seniora-w-suchaczu-1
END:VEVENT
END:VCALENDAR
