BEGIN:VCALENDAR
VERSION:2.0
PRODID:-//https://lecze-salezjanie.pl///DJ-Events//EN
BEGIN:VEVENT
SUMMARY:+ Irena Listkowska - w 7 rocznicę śmierci oraz Danuta, Stanisław i Kazimierz Listkowscy
UID:1096@https://lecze-salezjanie.pl/
DTSTART:20230709T090000
DTEND:20230709T090000
DTSTAMP:20260422T210830
CATEGORIES:Msza święta
LOCATION:Łęcze 82-340 Łęcze 48
GEO:54.2700545652713;19.468870040475466
DESCRIPTION:
URL:https://lecze-salezjanie.pl//component/djevents/details/2023-07-09/1096-irena-listkowska-w-7-rocznice-smierci-oraz-danuta-stanislaw-i-kazimierz-listkowscy
END:VEVENT
END:VCALENDAR
