BEGIN:VCALENDAR
VERSION:2.0
PRODID:-//https://lecze-salezjanie.pl///DJ-Events//EN
BEGIN:VEVENT
SUMMARY:+ Aleksander Dzierżyc - pogrzebowa
UID:1515@https://lecze-salezjanie.pl/
DTSTART:20230709T120000
DTEND:20230709T120000
DTSTAMP:20260422T210752
CATEGORIES:Msza święta
LOCATION:Kamionek Wielki 82-340 Kamionek Wielki 5
GEO:54.262029131955885;19.404954271163948
DESCRIPTION:
URL:https://lecze-salezjanie.pl//component/djevents/details/2023-07-09/1515-aleksander-dzierzyc-pogrzebowa
END:VEVENT
END:VCALENDAR
