BEGIN:VCALENDAR
VERSION:2.0
PRODID:-//https://lecze-salezjanie.pl///DJ-Events//EN
BEGIN:VEVENT
SUMMARY:O Boże Błogosławieństwo, opiekę Matki Bożej i Dary Ducha Świętego w dniu urodzin dla Adama
UID:1496@https://lecze-salezjanie.pl/
DTSTART:20230711T170000
DTEND:20230711T170000
DTSTAMP:20260422T210901
CATEGORIES:Msza święta
LOCATION:Suchacz 82-340 Kielecka 14
GEO:54.2856461944789;19.44132685661316
DESCRIPTION:
URL:https://lecze-salezjanie.pl//component/djevents/details/2023-07-11/1496-o-boze-blogoslawienstwo-opieke-matki-bozej-i-dary-ducha-swietego-w-dniu-urodzin-dla-adama
END:VEVENT
END:VCALENDAR
