BEGIN:VCALENDAR
VERSION:2.0
PRODID:-//https://lecze-salezjanie.pl///DJ-Events//EN
BEGIN:VEVENT
SUMMARY:O opiekę Matki Bożej, zdrowie, Dary Ducha Świętego i wskazanie drogi życiowej dla Kacpra Lewkowicza
UID:1513@https://lecze-salezjanie.pl/
DTSTART:20230712T180000
DTEND:20230712T180000
DTSTAMP:20260422T210902
CATEGORIES:Msza święta
LOCATION:Łęcze 82-340 Łęcze 48
GEO:54.2700545652713;19.468870040475466
DESCRIPTION:
URL:https://lecze-salezjanie.pl//component/djevents/details/2023-07-12/1513-o-opieke-matki-bozej-zdrowie-dary-ducha-swietego-i-wskazanie-drogi-zyciowej-dla-kacpra-lewkowicza
END:VEVENT
END:VCALENDAR
