BEGIN:VCALENDAR
VERSION:2.0
PRODID:-//https://lecze-salezjanie.pl///DJ-Events//EN
BEGIN:VEVENT
SUMMARY:Za Parafian
UID:1521@https://lecze-salezjanie.pl/
DTSTART:20230713T170000
DTEND:20230713T170000
DTSTAMP:20260422T210247
CATEGORIES:Msza święta
LOCATION:Suchacz 82-340 Kielecka 14
GEO:54.2856461944789;19.44132685661316
DESCRIPTION:
URL:https://lecze-salezjanie.pl//component/djevents/details/2023-07-13/1521-za-parafian-3
END:VEVENT
END:VCALENDAR
