BEGIN:VCALENDAR
VERSION:2.0
PRODID:-//https://lecze-salezjanie.pl///DJ-Events//EN
BEGIN:VEVENT
SUMMARY:+ Szczepan Grochoła - w 2 rocznicę śmierci
UID:1286@https://lecze-salezjanie.pl/
DTSTART:20230715T180000
DTEND:20230715T180000
DTSTAMP:20260422T210615
CATEGORIES:Msza święta
LOCATION:Łęcze 82-340 Łęcze 48
GEO:54.2700545652713;19.468870040475466
DESCRIPTION:
URL:https://lecze-salezjanie.pl//component/djevents/details/2023-07-15/1286-szczepan-grochola-w-2-rocznice-smierci
END:VEVENT
END:VCALENDAR
