BEGIN:VCALENDAR
VERSION:2.0
PRODID:-//https://lecze-salezjanie.pl///DJ-Events//EN
BEGIN:VEVENT
SUMMARY:+ Krzysztof Markun - z ofiar pogrzebu
UID:1372@https://lecze-salezjanie.pl/
DTSTART:20230716T103000
DTEND:20230716T103000
DTSTAMP:20260422T210759
CATEGORIES:Msza święta
LOCATION:Suchacz 82-340 Kielecka 14
GEO:54.2856461944789;19.44132685661316
DESCRIPTION:
URL:https://lecze-salezjanie.pl//component/djevents/details/2023-07-16/1372-krzysztof-markun-z-ofiar-pogrzebu-4
END:VEVENT
END:VCALENDAR
