BEGIN:VCALENDAR
VERSION:2.0
PRODID:-//https://lecze-salezjanie.pl///DJ-Events//EN
BEGIN:VEVENT
SUMMARY:+ Krzysztof Bocian - w 1 rocznicę śmierci i zmarli z rodziny
UID:1498@https://lecze-salezjanie.pl/
DTSTART:20230716T120000
DTEND:20230716T120000
DTSTAMP:20260422T193541
CATEGORIES:Msza święta
LOCATION:Kamionek Wielki 82-340 Kamionek Wielki 5
GEO:54.262029131955885;19.404954271163948
DESCRIPTION:
URL:https://lecze-salezjanie.pl//component/djevents/details/2023-07-16/1498-krzysztof-bocian-w-1-rocznice-smierci-i-zmarli-z-rodziny
END:VEVENT
END:VCALENDAR
