BEGIN:VCALENDAR
VERSION:2.0
PRODID:-//https://lecze-salezjanie.pl///DJ-Events//EN
BEGIN:VEVENT
SUMMARY:+ Agnieszka Kęska - w 7 rocznicę śmierci
UID:1499@https://lecze-salezjanie.pl/
DTSTART:20230718T170000
DTEND:20230718T170000
DTSTAMP:20260422T193447
CATEGORIES:Msza święta
LOCATION:Suchacz 82-340 Kielecka 14
GEO:54.2856461944789;19.44132685661316
DESCRIPTION:
URL:https://lecze-salezjanie.pl//component/djevents/details/2023-07-18/1499-agnieszka-keska-w-7-rocznice-smierci
END:VEVENT
END:VCALENDAR
