BEGIN:VCALENDAR
VERSION:2.0
PRODID:-//https://lecze-salezjanie.pl///DJ-Events//EN
BEGIN:VEVENT
SUMMARY:+ Ireneusz Iwko - w miesiąc po śmierci
UID:1500@https://lecze-salezjanie.pl/
DTSTART:20230720T170000
DTEND:20230720T170000
DTSTAMP:20260422T193522
CATEGORIES:Msza święta
LOCATION:Suchacz 82-340 Kielecka 14
GEO:54.2856461944789;19.44132685661316
DESCRIPTION:
URL:https://lecze-salezjanie.pl//component/djevents/details/2023-07-20/1500-ireneusz-iwko-w-miesiac-po-smierci
END:VEVENT
END:VCALENDAR
