BEGIN:VCALENDAR
VERSION:2.0
PRODID:-//https://lecze-salezjanie.pl///DJ-Events//EN
BEGIN:VEVENT
SUMMARY:Dziękczynna, z prośbą o dary Bożej Miłości dla księdza Wojciecha i Janusza oraz Pielgrzymów z Dąbrowy Białostockiej
UID:1520@https://lecze-salezjanie.pl/
DTSTART:20230721T180000
DTEND:20230721T180000
DTSTAMP:20260422T210901
CATEGORIES:Msza święta
LOCATION:Łęcze 82-340 Łęcze 48
GEO:54.2700545652713;19.468870040475466
DESCRIPTION:
URL:https://lecze-salezjanie.pl//component/djevents/details/2023-07-21/1520-dziekczynna-z-prosba-o-dary-bozej-milosci-dla-ksiedza-wojciecha-i-janusza-oraz-pielgrzymow-z-dabrowy-bialostockiej
END:VEVENT
END:VCALENDAR
