BEGIN:VCALENDAR
VERSION:2.0
PRODID:-//https://lecze-salezjanie.pl///DJ-Events//EN
BEGIN:VEVENT
SUMMARY:O dary Bożej Miłości i nieustanną opiekę Matki Bożej dla Krystyny Wójcik z okazji imienin
UID:1472@https://lecze-salezjanie.pl/
DTSTART:20230722T180000
DTEND:20230722T180000
DTSTAMP:20260422T193700
CATEGORIES:Msza święta
LOCATION:Łęcze 82-340 Łęcze 48
GEO:54.2700545652713;19.468870040475466
DESCRIPTION:
URL:https://lecze-salezjanie.pl//component/djevents/details/2023-07-22/1472-o-dary-bozej-milosci-i-nieustanna-opieke-matki-bozej-dla-krystyny-wojcik-z-okazji-imienin
END:VEVENT
END:VCALENDAR
